View In:
ArcGIS JavaScript
ArcGIS Online Map Viewer
ArcGIS Earth
Service Description: WNW2
Name: WNW2
Description:
Single Fused Map Cache: false
Extent:
XMin: -74.78069297813626
YMin: 40.49604396753644
XMax: -71.85615399767147
YMax: 42.95864997004756
Spatial Reference: 4269
(4269)
LatestVCSWkid(0)
Initial Extent:
XMin: -74.78069297813626
YMin: 40.49604396753644
XMax: -71.85615399767147
YMax: 42.95864997004756
Spatial Reference: 4269
(4269)
LatestVCSWkid(0)
Full Extent:
XMin: -74.78069297813626
YMin: 40.49604396753644
XMax: -71.85615399767147
YMax: 42.95864997004756
Spatial Reference: 4269
(4269)
LatestVCSWkid(0)
Pixel Size X: 8.983102901046776E-5
Pixel Size Y: 8.983023281940334E-5
Band Count: 1
Pixel Type: F32
RasterFunction Infos: {"rasterFunctionInfos": [{
"name": "None",
"description": "",
"help": ""
}]}
Mensuration Capabilities: Basic
Inspection Capabilities:
Has Histograms: true
Has Colormap: false
Has Multi Dimensions : false
Rendering Rule:
Min Scale: 0
Max Scale: 0
Copyright Text:
Service Data Type: esriImageServiceDataTypeGeneric
Min Values: 1
Max Values: 20
Mean Values: 5.110353409882309
Standard Deviation Values: 3.0467689411326573
Object ID Field:
Fields:
None
Default Mosaic Method: Center
Allowed Mosaic Methods:
SortField:
SortValue: null
Mosaic Operator: First
Default Compression Quality: 75
Default Resampling Method: Bilinear
Max Record Count: null
Max Image Height: 4100
Max Image Width: 15000
Max Download Image Count: null
Max Mosaic Image Count: null
Allow Raster Function: true
Allow Copy: false
Allow Analysis: false
Allow Compute TiePoints: false
Supports Statistics: false
Supports Advanced Queries: false
Use StandardizedQueries: true
Raster Type Infos:
Name: Raster Dataset
Description: Supports all ArcGIS Raster Datasets
Help:
Has Raster Attribute Table: false
Edit Fields Info: null
Ownership Based AccessControl For Rasters: null
Child Resources:
Info
Histograms
Statistics
Key Properties
Legend
Raster Function Infos
Supported Operations:
Export Image
Identify
Measure
Compute Histograms
Compute Statistics Histograms
Get Samples
Compute Class Statistics
Query Boundary
Compute Pixel Location
Compute Angles
Validate
Project