{
 "currentVersion": 11.2,
 "cimVersion": "3.2.0",
 "serviceDescription": "Westchester County BaseMap (Gray): a gray version of the County\u2019s basemap map service with selected photogrammetric features (Spring 2013) and other core countywide data including street network, municipal boundaries, lakes and parks, etc.",
 "mapName": "Layers",
 "description": "Westchester County BaseMap (Gray): a gray version of the County\u2019s basemap map service with selected photogrammetric features (Spring 2013) and other core countywide data including street network, municipal boundaries, lakes and parks, etc.",
 "copyrightText": "",
 "supportsDynamicLayers": true,
 "layers": [
  {
   "id": 0,
   "name": "Basemap",
   "parentLayerId": -1,
   "defaultVisibility": true,
   "subLayerIds": [
    1,
    2,
    3,
    4,
    5,
    6,
    7,
    8,
    9,
    10
   ],
   "minScale": 0,
   "maxScale": 0,
   "type": "Group Layer",
   "supportsDynamicLegends": false
  },
  {
   "id": 1,
   "name": "Municipal Boundary",
   "parentLayerId": 0,
   "defaultVisibility": true,
   "subLayerIds": null,
   "minScale": 0,
   "maxScale": 0,
   "type": "Feature Layer",
   "geometryType": "esriGeometryPolygon",
   "supportsDynamicLegends": true
  },
  {
   "id": 2,
   "name": "Metro-North Rail Lines",
   "parentLayerId": 0,
   "defaultVisibility": true,
   "subLayerIds": null,
   "minScale": 120000,
   "maxScale": 0,
   "type": "Feature Layer",
   "geometryType": "esriGeometryPolyline",
   "supportsDynamicLegends": true
  },
  {
   "id": 3,
   "name": "Highways and Parkways",
   "parentLayerId": 0,
   "defaultVisibility": true,
   "subLayerIds": null,
   "minScale": 300000,
   "maxScale": 120000,
   "type": "Feature Layer",
   "geometryType": "esriGeometryPolyline",
   "supportsDynamicLegends": true
  },
  {
   "id": 4,
   "name": "Highways and Major Roads",
   "parentLayerId": 0,
   "defaultVisibility": true,
   "subLayerIds": null,
   "minScale": 119999,
   "maxScale": 40000,
   "type": "Feature Layer",
   "geometryType": "esriGeometryPolyline",
   "supportsDynamicLegends": true
  },
  {
   "id": 5,
   "name": "Roads",
   "parentLayerId": 0,
   "defaultVisibility": true,
   "subLayerIds": null,
   "minScale": 39999,
   "maxScale": 0,
   "type": "Feature Layer",
   "geometryType": "esriGeometryPolyline",
   "supportsDynamicLegends": true
  },
  {
   "id": 6,
   "name": "Buildings",
   "parentLayerId": 0,
   "defaultVisibility": true,
   "subLayerIds": null,
   "minScale": 5000,
   "maxScale": 0,
   "type": "Feature Layer",
   "geometryType": "esriGeometryPolygon",
   "supportsDynamicLegends": true
  },
  {
   "id": 7,
   "name": "Lakes",
   "parentLayerId": 0,
   "defaultVisibility": true,
   "subLayerIds": null,
   "minScale": 119999,
   "maxScale": 0,
   "type": "Feature Layer",
   "geometryType": "esriGeometryPolygon",
   "supportsDynamicLegends": true
  },
  {
   "id": 8,
   "name": "Major Lakes",
   "parentLayerId": 0,
   "defaultVisibility": true,
   "subLayerIds": null,
   "minScale": 0,
   "maxScale": 120000,
   "type": "Feature Layer",
   "geometryType": "esriGeometryPolygon",
   "supportsDynamicLegends": true
  },
  {
   "id": 9,
   "name": "Parks",
   "parentLayerId": 0,
   "defaultVisibility": true,
   "subLayerIds": null,
   "minScale": 0,
   "maxScale": 0,
   "type": "Feature Layer",
   "geometryType": "esriGeometryPolygon",
   "supportsDynamicLegends": true
  },
  {
   "id": 10,
   "name": "County Background",
   "parentLayerId": 0,
   "defaultVisibility": true,
   "subLayerIds": null,
   "minScale": 0,
   "maxScale": 0,
   "type": "Feature Layer",
   "geometryType": "esriGeometryPolygon",
   "supportsDynamicLegends": true
  },
  {
   "id": 11,
   "name": "Out of County Municipal Boundaries",
   "parentLayerId": -1,
   "defaultVisibility": true,
   "subLayerIds": null,
   "minScale": 0,
   "maxScale": 0,
   "type": "Feature Layer",
   "geometryType": "esriGeometryPolygon",
   "supportsDynamicLegends": true
  },
  {
   "id": 12,
   "name": "Out of County Background",
   "parentLayerId": -1,
   "defaultVisibility": true,
   "subLayerIds": null,
   "minScale": 0,
   "maxScale": 0,
   "type": "Feature Layer",
   "geometryType": "esriGeometryPolygon",
   "supportsDynamicLegends": true
  }
 ],
 "tables": [],
 "spatialReference": {
  "wkid": 102715,
  "latestWkid": 2260,
  "xyTolerance": 0.00328083333333333,
  "zTolerance": 2,
  "mTolerance": 0.001,
  "falseX": -17954600,
  "falseY": -46918100,
  "xyUnits": 1.3725506987923574E8,
  "falseZ": 0,
  "zUnits": 1,
  "falseM": -100000,
  "mUnits": 10000
 },
 "singleFusedMapCache": true,
 "tileInfo": {
  "rows": 512,
  "cols": 512,
  "dpi": 128,
  "format": "JPEG",
  "compressionQuality": 75,
  "origin": {
   "x": -17954600,
   "y": 18705700
  },
  "spatialReference": {
   "wkid": 102715,
   "latestWkid": 2260,
   "xyTolerance": 0.00328083333333333,
   "zTolerance": 2,
   "mTolerance": 0.001,
   "falseX": -17954600,
   "falseY": -46918100,
   "xyUnits": 1.3725506987923574E8,
   "falseZ": 0,
   "zUnits": 1,
   "falseM": -100000,
   "mUnits": 10000
  },
  "lods": [
   {
    "level": 0,
    "resolution": 260.41666666666663,
    "scale": 400000
   },
   {
    "level": 1,
    "resolution": 175.78125,
    "scale": 270000
   },
   {
    "level": 2,
    "resolution": 130.20833333333331,
    "scale": 200000
   },
   {
    "level": 3,
    "resolution": 97.65625,
    "scale": 150000
   },
   {
    "level": 4,
    "resolution": 65.10416666666666,
    "scale": 100000
   },
   {
    "level": 5,
    "resolution": 32.55208333333333,
    "scale": 50000
   },
   {
    "level": 6,
    "resolution": 22.786458333333332,
    "scale": 35000
   },
   {
    "level": 7,
    "resolution": 13.020833333333332,
    "scale": 20000
   },
   {
    "level": 8,
    "resolution": 6.510416666666666,
    "scale": 10000
   },
   {
    "level": 9,
    "resolution": 3.255208333333333,
    "scale": 5000
   },
   {
    "level": 10,
    "resolution": 1.953125,
    "scale": 3000
   },
   {
    "level": 11,
    "resolution": 0.9765625,
    "scale": 1500
   },
   {
    "level": 12,
    "resolution": 0.3255208333333333,
    "scale": 500
   }
  ]
 },
 "storageInfo": {
  "storageFormat": "esriMapCacheStorageModeCompactV2",
  "packetSize": 128
 },
 "initialExtent": {
  "xmin": 576191.3421512832,
  "ymin": 735940.5254215754,
  "xmax": 830810.153249235,
  "ymax": 933358.1059157248,
  "spatialReference": {
   "wkid": 102715,
   "latestWkid": 2260,
   "xyTolerance": 0.00328083333333333,
   "zTolerance": 2,
   "mTolerance": 0.001,
   "falseX": -17954600,
   "falseY": -46918100,
   "xyUnits": 1.3725506987923574E8,
   "falseZ": 0,
   "zUnits": 1,
   "falseM": -100000,
   "mUnits": 10000
  }
 },
 "fullExtent": {
  "xmin": 503870.265400343,
  "ymin": 713972.5644045251,
  "xmax": 865500.332821176,
  "ymax": 987441.000078104,
  "spatialReference": {
   "wkid": 102715,
   "latestWkid": 2260,
   "xyTolerance": 0.00328083333333333,
   "zTolerance": 2,
   "mTolerance": 0.001,
   "falseX": -17954600,
   "falseY": -46918100,
   "xyUnits": 1.3725506987923574E8,
   "falseZ": 0,
   "zUnits": 1,
   "falseM": -100000,
   "mUnits": 10000
  }
 },
 "datesInUnknownTimezone": false,
 "minScale": 400000,
 "maxScale": 500,
 "minLOD": 0,
 "maxLOD": 12,
 "units": "esriFeet",
 "supportedImageFormatTypes": "PNG32,PNG24,PNG,JPG,DIB,TIFF,EMF,PS,PDF,GIF,SVG,SVGZ,BMP",
 "documentInfo": {
  "Title": "WestchesterCountyBaseMap_Gray",
  "Author": "",
  "Comments": "Westchester County BaseMap (Gray): a gray version of the County\u2019s basemap map service with selected photogrammetric features (Spring 2013) and other core countywide data including street network, municipal boundaries, lakes and parks, etc.",
  "Subject": "",
  "Category": "",
  "Version": "2.6.0",
  "AntialiasingMode": "Fast",
  "TextAntialiasingMode": "Force",
  "Keywords": "Westchester County Basemap (Gray);Westchester County GIS"
 },
 "supportsQueryDomains": true,
 "capabilities": "Map,Query,Data",
 "supportedQueryFormats": "JSON, geoJSON, PBF",
 "exportTilesAllowed": false,
 "referenceScale": 0.0,
 "datumTransformations": [
  {
   "geoTransforms": [
    {
     "wkid": 108001,
     "latestWkid": 1241,
     "transformForward": true,
     "name": "NAD_1927_To_NAD_1983_NADCON"
    }
   ]
  },
  {
   "geoTransforms": [
    {
     "wkid": 108001,
     "latestWkid": 1241,
     "transformForward": false,
     "name": "NAD_1927_To_NAD_1983_NADCON"
    }
   ]
  }
 ],
 "supportsDatumTransformation": true,
 "archivingInfo": {
  "supportsHistoricMoment": false
 },
 "supportsClipping": true,
 "supportsSpatialFilter": true,
 "supportsTimeRelation": true,
 "supportsQueryDataElements": true,
 "mapUnits": {
  "uwkid": 9003
 },
 "maxRecordCount": 2000,
 "maxImageHeight": 4096,
 "maxImageWidth": 4096,
 "supportedExtensions": "",
 "serviceItemId": "6df588e6614d4696be771007c01a1812"
}
