{ "currentVersion": 11.2, "cimVersion": "3.2.0", "serviceDescription": "The map service shows roads, buildings, parks and lakes, etc. It services as county base map to support variety of Westchester County GIS applications. The roads shown in map service contain two major datasets, 2017 Q4 HERE road network and 2013 road centerlines from Base Map planimetric datasets.", "mapName": "Layers", "description": "
The map service shows roads, buildings, parks and lakes, etc. It services as county base map to support variety of Westchester County GIS applications. <\/SPAN><\/P><\/DIV><\/DIV>",
"copyrightText": "",
"supportsDynamicLayers": true,
"layers": [
{
"id": 17,
"name": "Municipal_BoundariesAnno",
"parentLayerId": -1,
"defaultVisibility": true,
"subLayerIds": [
16
],
"minScale": 0,
"maxScale": 220000,
"type": "Annotation Layer",
"geometryType": "esriGeometryPolygon",
"supportsDynamicLegends": false
},
{
"id": 16,
"name": "Default",
"parentLayerId": 17,
"defaultVisibility": true,
"subLayerIds": null,
"minScale": 0,
"maxScale": 0,
"supportsDynamicLegends": false
},
{
"id": 22,
"name": "Municipal Boundaries",
"parentLayerId": -1,
"defaultVisibility": true,
"subLayerIds": null,
"minScale": 0,
"maxScale": 0,
"type": "Feature Layer",
"geometryType": "esriGeometryPolygon",
"supportsDynamicLegends": true
},
{
"id": 3,
"name": "Train Stations",
"parentLayerId": -1,
"defaultVisibility": true,
"subLayerIds": null,
"minScale": 120000,
"maxScale": 0,
"type": "Feature Layer",
"geometryType": "esriGeometryPoint",
"supportsDynamicLegends": true
},
{
"id": 4,
"name": "Metro-North Rail Lines",
"parentLayerId": -1,
"defaultVisibility": true,
"subLayerIds": null,
"minScale": 120000,
"maxScale": 0,
"type": "Feature Layer",
"geometryType": "esriGeometryPolyline",
"supportsDynamicLegends": true
},
{
"id": 5,
"name": "Highways and Parkways",
"parentLayerId": -1,
"defaultVisibility": true,
"subLayerIds": null,
"minScale": 300000,
"maxScale": 120000,
"type": "Feature Layer",
"geometryType": "esriGeometryPolyline",
"supportsDynamicLegends": true
},
{
"id": 6,
"name": "Highways and Major Roads",
"parentLayerId": -1,
"defaultVisibility": true,
"subLayerIds": null,
"minScale": 119999,
"maxScale": 40000,
"type": "Feature Layer",
"geometryType": "esriGeometryPolyline",
"supportsDynamicLegends": true
},
{
"id": 7,
"name": "Roads",
"parentLayerId": -1,
"defaultVisibility": true,
"subLayerIds": null,
"minScale": 39999,
"maxScale": 0,
"type": "Feature Layer",
"geometryType": "esriGeometryPolyline",
"supportsDynamicLegends": true
},
{
"id": 8,
"name": "Buildings",
"parentLayerId": -1,
"defaultVisibility": true,
"subLayerIds": null,
"minScale": 5000,
"maxScale": 0,
"type": "Feature Layer",
"geometryType": "esriGeometryPolygon",
"supportsDynamicLegends": true
},
{
"id": 18,
"name": "Lakes",
"parentLayerId": -1,
"defaultVisibility": true,
"subLayerIds": null,
"minScale": 119999,
"maxScale": 0,
"type": "Feature Layer",
"geometryType": "esriGeometryPolygon",
"supportsDynamicLegends": true
},
{
"id": 19,
"name": "Major Lakes",
"parentLayerId": -1,
"defaultVisibility": true,
"subLayerIds": null,
"minScale": 0,
"maxScale": 120000,
"type": "Feature Layer",
"geometryType": "esriGeometryPolygon",
"supportsDynamicLegends": true
},
{
"id": 20,
"name": "Streams",
"parentLayerId": -1,
"defaultVisibility": true,
"subLayerIds": null,
"minScale": 119999,
"maxScale": 0,
"type": "Feature Layer",
"geometryType": "esriGeometryPolyline",
"supportsDynamicLegends": true
},
{
"id": 11,
"name": "Parks",
"parentLayerId": -1,
"defaultVisibility": true,
"subLayerIds": null,
"minScale": 0,
"maxScale": 0,
"type": "Feature Layer",
"geometryType": "esriGeometryPolygon",
"supportsDynamicLegends": true
},
{
"id": 12,
"name": "Hillshade Relief",
"parentLayerId": -1,
"defaultVisibility": true,
"subLayerIds": null,
"minScale": 0,
"maxScale": 10000,
"type": "Raster Layer",
"supportsDynamicLegends": true
},
{
"id": 13,
"name": "Out of County Municipal Boundaries",
"parentLayerId": -1,
"defaultVisibility": true,
"subLayerIds": null,
"minScale": 0,
"maxScale": 0,
"type": "Feature Layer",
"geometryType": "esriGeometryPolygon",
"supportsDynamicLegends": true
},
{
"id": 21,
"name": "Out of County Background",
"parentLayerId": -1,
"defaultVisibility": true,
"subLayerIds": null,
"minScale": 0,
"maxScale": 0,
"type": "Feature Layer",
"geometryType": "esriGeometryPolygon",
"supportsDynamicLegends": true
}
],
"tables": [],
"spatialReference": {
"wkid": 102715,
"latestWkid": 2260,
"xyTolerance": 0.00328083333333333,
"zTolerance": 2,
"mTolerance": 0.001,
"falseX": -17954600,
"falseY": -46918100,
"xyUnits": 1.3725506987923574E8,
"falseZ": 0,
"zUnits": 1,
"falseM": -100000,
"mUnits": 10000
},
"singleFusedMapCache": true,
"tileInfo": {
"rows": 512,
"cols": 512,
"dpi": 128,
"format": "JPEG",
"compressionQuality": 75,
"origin": {
"x": -17954600,
"y": 18705700
},
"spatialReference": {
"wkid": 102715,
"latestWkid": 2260,
"xyTolerance": 0.00328083333333333,
"zTolerance": 2,
"mTolerance": 0.001,
"falseX": -17954600,
"falseY": -46918100,
"xyUnits": 1.3725506987923574E8,
"falseZ": 0,
"zUnits": 1,
"falseM": -100000,
"mUnits": 10000
},
"lods": [
{
"level": 0,
"resolution": 260.41666666666663,
"scale": 400000
},
{
"level": 1,
"resolution": 175.78125,
"scale": 270000
},
{
"level": 2,
"resolution": 130.20833333333331,
"scale": 200000
},
{
"level": 3,
"resolution": 97.65625,
"scale": 150000
},
{
"level": 4,
"resolution": 65.10416666666666,
"scale": 100000
},
{
"level": 5,
"resolution": 32.55208333333333,
"scale": 50000
},
{
"level": 6,
"resolution": 22.786458333333332,
"scale": 35000
},
{
"level": 7,
"resolution": 13.020833333333332,
"scale": 20000
},
{
"level": 8,
"resolution": 6.510416666666666,
"scale": 10000
},
{
"level": 9,
"resolution": 3.255208333333333,
"scale": 5000
},
{
"level": 10,
"resolution": 1.953125,
"scale": 3000
},
{
"level": 11,
"resolution": 0.9765625,
"scale": 1500
},
{
"level": 12,
"resolution": 0.3255208333333333,
"scale": 500
}
]
},
"storageInfo": {
"storageFormat": "esriMapCacheStorageModeCompactV2",
"packetSize": 128
},
"initialExtent": {
"xmin": 585024.9275947999,
"ymin": 736037.70492219,
"xmax": 821976.5678057183,
"ymax": 933260.9264151101,
"spatialReference": {
"wkid": 102715,
"latestWkid": 2260,
"xyTolerance": 0.00328083333333333,
"zTolerance": 2,
"mTolerance": 0.001,
"falseX": -17954600,
"falseY": -46918100,
"xyUnits": 1.3725506987923574E8,
"falseZ": 0,
"zUnits": 1,
"falseM": -100000,
"mUnits": 10000
}
},
"fullExtent": {
"xmin": 507821.59690967365,
"ymin": 693679.61888132,
"xmax": 903134.0969096737,
"ymax": 927794.2022146533,
"spatialReference": {
"wkid": 102715,
"latestWkid": 2260,
"xyTolerance": 0.00328083333333333,
"zTolerance": 2,
"mTolerance": 0.001,
"falseX": -17954600,
"falseY": -46918100,
"xyUnits": 1.3725506987923574E8,
"falseZ": 0,
"zUnits": 1,
"falseM": -100000,
"mUnits": 10000
}
},
"datesInUnknownTimezone": false,
"minScale": 400000,
"maxScale": 500,
"minLOD": 0,
"maxLOD": 12,
"units": "esriFeet",
"supportedImageFormatTypes": "PNG32,PNG24,PNG,JPG,DIB,TIFF,EMF,PS,PDF,GIF,SVG,SVGZ,BMP",
"documentInfo": {
"Title": "MappingWestchesterCounty_Basemap",
"Author": "",
"Comments": " The map service shows roads, buildings, parks and lakes, etc. It services as county base map to support variety of Westchester County GIS applications. <\/SPAN><\/P><\/DIV><\/DIV>",
"Subject": "MappingWestchesterCounty_Basemap",
"Category": "",
"Version": "2.6.0",
"AntialiasingMode": "Fast",
"TextAntialiasingMode": "Force",
"Keywords": "Mapping Westchester County Basemap"
},
"supportsQueryDomains": true,
"capabilities": "Map,Query,Data",
"supportedQueryFormats": "JSON, geoJSON, PBF",
"exportTilesAllowed": false,
"referenceScale": 0.0,
"datumTransformations": [
{
"geoTransforms": [
{
"wkid": 108001,
"latestWkid": 1241,
"transformForward": true,
"name": "NAD_1927_To_NAD_1983_NADCON"
}
]
},
{
"geoTransforms": [
{
"wkid": 108001,
"latestWkid": 1241,
"transformForward": false,
"name": "NAD_1927_To_NAD_1983_NADCON"
}
]
}
],
"supportsDatumTransformation": true,
"archivingInfo": {"supportsHistoricMoment": false},
"supportsClipping": true,
"supportsSpatialFilter": true,
"supportsTimeRelation": true,
"supportsQueryDataElements": true,
"mapUnits": {"uwkid": 9003},
"maxRecordCount": 2000,
"maxImageHeight": 4096,
"maxImageWidth": 4096,
"supportedExtensions": "",
"serviceItemId": "d99f6c9765ce434ca3104747ec210989"
}