{ "currentVersion": 11.2, "cimVersion": "3.2.0", "serviceDescription": "
This dataset consists of 6-inch pixel resolution, natural color orthoimages covering the entire Westchester County NY with a bugger of 1000 ft.<\/SPAN><\/SPAN><\/P> An orthoimage is remotely sensed image data in which displacement of features in the image caused by terrain relief and sensor orientation have been mathematically removed. Orthoimagery combines the image characteristics of a photograph with the geometric qualities of a map.<\/SPAN><\/SPAN><\/P> Imagery was flown on March 20th 2023<\/SPAN><\/SPAN><\/P> <\/P><\/DIV>",
"mapName": "MappingWestchesterCounty_AerialPhoto2023",
"description": " This dataset consists of 6-inch pixel resolution, natural color orthoimages covering the entire Westchester County NY with a bugger of 1000 ft.<\/SPAN><\/SPAN><\/P> An orthoimage is remotely sensed image data in which displacement of features in the image caused by terrain relief and sensor orientation have been mathematically removed. Orthoimagery combines the image characteristics of a photograph with the geometric qualities of a map.<\/SPAN><\/SPAN><\/P> Imagery was flown on March 20th 2023<\/SPAN><\/SPAN><\/P> <\/P><\/DIV>",
"copyrightText": "Westchester County GIS",
"supportsDynamicLayers": true,
"layers": [
{
"id": 0,
"name": "2023 Aerial Photos",
"parentLayerId": -1,
"defaultVisibility": true,
"subLayerIds": [
1,
2,
3
],
"minScale": 0,
"maxScale": 0,
"type": "Mosaic Layer",
"supportsDynamicLegends": false
},
{
"id": 1,
"name": "Boundary",
"parentLayerId": 0,
"defaultVisibility": false,
"subLayerIds": null,
"minScale": 0,
"maxScale": 0,
"type": "Feature Layer",
"geometryType": "esriGeometryPolygon",
"supportsDynamicLegends": true
},
{
"id": 2,
"name": "Footprint",
"parentLayerId": 0,
"defaultVisibility": false,
"subLayerIds": null,
"minScale": 0,
"maxScale": 0,
"type": "Feature Layer",
"geometryType": "esriGeometryPolygon",
"supportsDynamicLegends": true
},
{
"id": 3,
"name": "Image",
"parentLayerId": 0,
"defaultVisibility": true,
"subLayerIds": null,
"minScale": 0,
"maxScale": 0,
"type": "Raster Layer",
"supportsDynamicLegends": true
}
],
"tables": [],
"spatialReference": {
"wkid": 102715,
"latestWkid": 2260,
"xyTolerance": 0.003280833333333333,
"zTolerance": 0.001,
"mTolerance": 0.001,
"falseX": -17954600,
"falseY": -46918100,
"xyUnits": 3048.0060960121928,
"falseZ": -100000,
"zUnits": 10000,
"falseM": -100000,
"mUnits": 10000
},
"singleFusedMapCache": true,
"tileInfo": {
"rows": 512,
"cols": 512,
"dpi": 128,
"format": "JPEG",
"compressionQuality": 75,
"origin": {
"x": -17954600,
"y": 18705700
},
"spatialReference": {
"wkid": 102715,
"latestWkid": 2260,
"xyTolerance": 0.00328083333333333,
"zTolerance": 2,
"mTolerance": 0.001,
"falseX": -17954600,
"falseY": -46918100,
"xyUnits": 1.3725506987923574E8,
"falseZ": 0,
"zUnits": 1,
"falseM": -100000,
"mUnits": 10000
},
"lods": [
{
"level": 0,
"resolution": 260.41666666666663,
"scale": 400000
},
{
"level": 1,
"resolution": 175.78125,
"scale": 270000
},
{
"level": 2,
"resolution": 130.20833333333331,
"scale": 200000
},
{
"level": 3,
"resolution": 97.65625,
"scale": 150000
},
{
"level": 4,
"resolution": 65.10416666666666,
"scale": 100000
},
{
"level": 5,
"resolution": 32.55208333333333,
"scale": 50000
},
{
"level": 6,
"resolution": 22.786458333333332,
"scale": 35000
},
{
"level": 7,
"resolution": 13.020833333333332,
"scale": 20000
},
{
"level": 8,
"resolution": 6.510416666666666,
"scale": 10000
},
{
"level": 9,
"resolution": 3.255208333333333,
"scale": 5000
},
{
"level": 10,
"resolution": 1.953125,
"scale": 3000
},
{
"level": 11,
"resolution": 0.9765625,
"scale": 1500
},
{
"level": 12,
"resolution": 0.3255208333333333,
"scale": 500
}
]
},
"storageInfo": {
"storageFormat": "esriMapCacheStorageModeCompactV2",
"packetSize": 128
},
"initialExtent": {
"xmin": 579126.4705882353,
"ymin": 736000,
"xmax": 828373.5294117647,
"ymax": 934000,
"spatialReference": {
"wkid": 102715,
"latestWkid": 2260,
"xyTolerance": 0.003280833333333333,
"zTolerance": 0.001,
"mTolerance": 0.001,
"falseX": -17954600,
"falseY": -46918100,
"xyUnits": 3048.0060960121928,
"falseZ": -100000,
"zUnits": 10000,
"falseM": -100000,
"mUnits": 10000
}
},
"fullExtent": {
"xmin": 632499.9999382459,
"ymin": 745000,
"xmax": 775000.0000426625,
"ymax": 925000,
"spatialReference": {
"wkid": 102715,
"latestWkid": 2260,
"xyTolerance": 0.003280833333333333,
"zTolerance": 0.001,
"mTolerance": 0.001,
"falseX": -17954600,
"falseY": -46918100,
"xyUnits": 3048.0060960121928,
"falseZ": -100000,
"zUnits": 10000,
"falseM": -100000,
"mUnits": 10000
}
},
"datesInUnknownTimezone": false,
"minScale": 400000,
"maxScale": 500,
"units": "esriFeet",
"supportedImageFormatTypes": "PNG32,PNG24,PNG,JPG,DIB,TIFF,EMF,PS,PDF,GIF,SVG,SVGZ,BMP",
"documentInfo": {
"Title": "MappingWestchesterCounty_AerialPhoto2023",
"Author": "",
"Comments": " This dataset consists of 6-inch pixel resolution, natural color orthoimages covering the entire Westchester County NY with a bugger of 1000 ft.<\/SPAN><\/SPAN><\/P> An orthoimage is remotely sensed image data in which displacement of features in the image caused by terrain relief and sensor orientation have been mathematically removed. Orthoimagery combines the image characteristics of a photograph with the geometric qualities of a map.<\/SPAN><\/SPAN><\/P> Imagery was flown on March 20th 2023<\/SPAN><\/SPAN><\/P> <\/P><\/DIV>",
"Subject": "The Aerial Photo 2023 depicts geographic features on the surface of the earth. It was created to provide easily accessible geospatial data which is readily available to enhance the capability of Federal, State, and local emergency responders, as well as plan for homeland security efforts.\n\nA digital orthoimage is a geometrically accurate photographic record of landscape conditions at the time of the corresponding aerial photography. As such, High Resolution Orthoimagery is useful for a variety of applications, such as environmental monitoring, facility engineering/maintenance, city/county planning, property line review, etc. The digital orthoimage can be used alone or as a raster basemap for corresponding vector line mapping. The detailed focus of High Resolution Orthoimagery provides emergency responders critical information in determining the best evacuation routes, alternative routes and safe access to aid. High Resolution Orthoimagery assists law enforcement personnel in determining the best locations to place surveillance cameras in high-traffic urban areas and popular attractions. The data assists Federal, State and local emergency responders in planning for homeland security efforts",
"Category": "",
"Version": "2.6.0",
"AntialiasingMode": "Fast",
"TextAntialiasingMode": "Force",
"Keywords": "Aerial Photos 2023,Westchester County GIS,Westchester,Orthophotos,Base map,High Resolution,Imagery,Earth Cover,air photo,aerial photo,aerial photography,image map"
},
"supportsQueryDomains": true,
"capabilities": "Map,Query,Data",
"supportedQueryFormats": "JSON, geoJSON, PBF",
"exportTilesAllowed": false,
"referenceScale": 0.0,
"datumTransformations": [
{
"geoTransforms": [
{
"wkid": 108190,
"latestWkid": 108190,
"transformForward": true,
"name": "WGS_1984_(ITRF00)_To_NAD_1983"
}
]
},
{
"geoTransforms": [
{
"wkid": 108190,
"latestWkid": 108190,
"transformForward": false,
"name": "WGS_1984_(ITRF00)_To_NAD_1983"
}
]
},
{
"geoTransforms": [
{
"wkid": 108190,
"latestWkid": 108190,
"transformForward": true,
"name": "WGS_1984_(ITRF00)_To_NAD_1983"
}
]
},
{
"geoTransforms": [
{
"wkid": 108190,
"latestWkid": 108190,
"transformForward": false,
"name": "WGS_1984_(ITRF00)_To_NAD_1983"
}
]
}
],
"supportsDatumTransformation": true,
"archivingInfo": {"supportsHistoricMoment": false},
"supportsClipping": true,
"supportsSpatialFilter": true,
"supportsTimeRelation": true,
"supportsQueryDataElements": true,
"mapUnits": {"uwkid": 9003},
"maxRecordCount": 2000,
"maxImageHeight": 4096,
"maxImageWidth": 4096,
"supportedExtensions": "",
"serviceItemId": "763859bbd2194a0c9cf329a5cc84ddd0"
}